BEGIN:VCALENDAR
VERSION:2.0
PRODID:icalendar-ruby
CALSCALE:GREGORIAN
METHOD:PUBLISH
BEGIN:VEVENT
DTSTAMP:20260423T222315Z
UID:709-74390@sonrisebaptisttucson.org
DTSTART:20260516T010000Z
DTEND:20260516T040000Z
CLASS:PUBLIC
CREATED:20260421T163508
DESCRIPTION:Youth Activity Paint Party\nFriday\, May 15th at 6:00pm\nCost $
 3.00\nActividad de Jovenes\n Fiesta de Pintura\nViernes\, Mayo 15 a las 6
 :00pm.\nCosto: $3.00
LAST-MODIFIED:20260421T163508
LOCATION:
SUMMARY:Youth Activity Paint Party
URL;VALUE=URI:https://www.sonrisebaptisttucson.org/events/youth-activity-pa
 int-party/2026-05-15
ATTACH;FILENAME=515 Youth paint party - 1.jpg;FMTTYPE=image/jpeg:https://dq
 5pwpg1q8ru0.cloudfront.net/2026/04/21/23/35/07/f25d24e0-7769-459f-b7bb-0e7
 998f6b807/515%20Youth%20paint%20party%20-%201.jpg
ATTACH;FILENAME=515 Youth paint party - 2.jpg;FMTTYPE=image/jpeg:https://dq
 5pwpg1q8ru0.cloudfront.net/2026/04/21/23/35/08/e347d51a-1ced-409d-82fb-af0
 cc871fdce/515%20Youth%20paint%20party%20-%202.jpg
END:VEVENT
END:VCALENDAR
