BEGIN:VCALENDAR
VERSION:2.0
PRODID:icalendar-ruby
CALSCALE:GREGORIAN
METHOD:PUBLISH
BEGIN:VEVENT
DTSTAMP:20260419T131416Z
UID:708-74386@sonrisebaptisttucson.org
DTSTART:20260425T010000Z
DTEND:20260425T030000Z
CLASS:PUBLIC
CREATED:20260419T004545
DESCRIPTION:Spring Concert Rehearsal\nFriday\, April 24th at 6:00pm.\nEnsay
 o del Concierto de Primavera\nViernes\, Abril 24 a las 6:00pm.\n
LAST-MODIFIED:20260419T004545
LOCATION:
SUMMARY:Spring Concert Rehearsal
URL;VALUE=URI:https://www.sonrisebaptisttucson.org/events/spring-concert-re
 hearsal--708/2026-04-24
ATTACH;FILENAME=424 Spring Concert rehearsal - 1.jpg;FMTTYPE=image/jpeg:htt
 ps://dq5pwpg1q8ru0.cloudfront.net/2026/04/19/07/45/44/46ab393d-77f0-4474-a
 ea2-162afa006858/424%20Spring%20Concert%20rehearsal%20-%201.jpg
ATTACH;FILENAME=424 Spring Concert rehearsal - 2.jpg;FMTTYPE=image/jpeg:htt
 ps://dq5pwpg1q8ru0.cloudfront.net/2026/04/19/07/45/45/e0909e90-74f5-4dd4-a
 8ac-d0489aba0974/424%20Spring%20Concert%20rehearsal%20-%202.jpg
END:VEVENT
END:VCALENDAR
