BEGIN:VCALENDAR
VERSION:2.0
PRODID:icalendar-ruby
CALSCALE:GREGORIAN
METHOD:PUBLISH
BEGIN:VEVENT
DTSTAMP:20260425T120601Z
UID:700-74369@sonrisebaptisttucson.org
DTSTART:20260502T160000Z
DTEND:20260502T180000Z
CLASS:PUBLIC
CREATED:20260408T184752
DESCRIPTION:Church Outreach\nSaturday\, May 2nd at 9:00 am.\nAlcance Comuni
 tario\nSábado\, Mayo 2 a las 9:00am.
LAST-MODIFIED:20260408T184752
LOCATION:
SUMMARY:Church Outreach
URL;VALUE=URI:https://www.sonrisebaptisttucson.org/events/church-outreach--
 700/2026-05-02
ATTACH;FILENAME=52 Church Outreach - 2.jpg;FMTTYPE=image/jpeg:https://dq5pw
 pg1q8ru0.cloudfront.net/2026/04/09/01/47/52/2b7942b9-f40b-4461-b6cc-5ecbe1
 3ebc5f/52%20Church%20Outreach%20-%202.jpg
ATTACH;FILENAME=52 Church Outreach - 1.jpg;FMTTYPE=image/jpeg:https://dq5pw
 pg1q8ru0.cloudfront.net/2026/04/09/01/47/52/6e17a35d-a4d0-43f4-a4ce-520828
 ad75bf/52%20Church%20Outreach%20-%201.jpg
END:VEVENT
END:VCALENDAR
