BEGIN:VCALENDAR
VERSION:2.0
PRODID:icalendar-ruby
CALSCALE:GREGORIAN
METHOD:PUBLISH
BEGIN:VEVENT
DTSTAMP:20260419T131455Z
UID:707-74385@sonrisebaptisttucson.org
DTSTART:20260425T010000Z
DTEND:20260425T040000Z
CLASS:PUBLIC
CREATED:20260419T003347
DESCRIPTION:\n\n\nBaby Shower \n\n\n\nAPRIL 24TH AT 6PM\n\n\n\n\nAlexia de
  Santiago — girl\n\n\nVicky Nelson — girl \n\n\n\n\nBella Jimenez — 
 boy\n\n\nKim Molina — boy\n\n\n\n\nAT SONRISE BAPTIST CHURCH\n\n\n\n\nRS
 VP TO 520-591-1840\n\n\n\n\nGifts for each are welcome but not necessary. 
 Bring one pack of diapers to share the love!\n\n\n
LAST-MODIFIED:20260419T003347
LOCATION:
SUMMARY:Baby Shower
URL;VALUE=URI:https://www.sonrisebaptisttucson.org/events/baby-shower/2026-
 04-24
ATTACH;FILENAME=Baby Shower (Presentation).jpg;FMTTYPE=image/jpeg:https://d
 q5pwpg1q8ru0.cloudfront.net/2026/04/19/07/33/47/bb3f141e-0af4-4c55-9309-59
 d1f81942b2/Baby%20Shower%20(Presentation).jpg
END:VEVENT
END:VCALENDAR
